Package: AlphaMissenseR Version: 1.0.2 Command: /home/biocbuild/bbs-3.19-bioc/R/bin/R CMD INSTALL AlphaMissenseR StartedAt: 2024-10-16 16:07:04 -0400 (Wed, 16 Oct 2024) EndedAt: 2024-10-16 16:07:11 -0400 (Wed, 16 Oct 2024) EllapsedTime: 6.7 seconds RetCode: 0 Status: OK