Package: AlpsNMR Version: 4.6.0 Command: rm -rf AlpsNMR.buildbin-libdir && mkdir AlpsNMR.buildbin-libdir && /Users/biocbuild/BBS/utils/build-universal.sh AlpsNMR_4.6.0.tar.gz /Library/Frameworks/R.framework/Resources/bin/R AlpsNMR.buildbin-libdir StartedAt: 2024-10-18 17:15:36 -0400 (Fri, 18 Oct 2024) EndedAt: 2024-10-18 17:15:55 -0400 (Fri, 18 Oct 2024) EllapsedTime: 19.4 seconds RetCode: 0 Status: OK PackageFile: AlpsNMR_4.6.0.tgz PackageFileSize: 4.17 MiB