Package: AlpsNMR Version: 4.6.0 Command: /Library/Frameworks/R.framework/Resources/bin/R CMD build --keep-empty-dirs --no-resave-data AlpsNMR StartedAt: 2024-10-16 19:15:45 -0400 (Wed, 16 Oct 2024) EndedAt: 2024-10-16 19:18:12 -0400 (Wed, 16 Oct 2024) EllapsedTime: 146.4 seconds RetCode: 0 Status: OK PackageFile: AlpsNMR_4.6.0.tar.gz PackageFileSize: 3.696 MiB