Package: AlpsNMR Version: 4.6.0 Command: /Library/Frameworks/R.framework/Resources/bin/R CMD INSTALL AlpsNMR StartedAt: 2024-10-16 17:11:19 -0400 (Wed, 16 Oct 2024) EndedAt: 2024-10-16 17:11:34 -0400 (Wed, 16 Oct 2024) EllapsedTime: 15.2 seconds RetCode: 0 Status: OK