Package: AlpsNMR Version: 4.6.0 Command: rm -rf AlpsNMR.buildbin-libdir && mkdir AlpsNMR.buildbin-libdir && /Users/biocbuild/BBS/utils/build-universal.sh AlpsNMR_4.6.0.tar.gz /Library/Frameworks/R.framework/Resources/bin/R AlpsNMR.buildbin-libdir StartedAt: 2024-06-11 10:06:30 -0400 (Tue, 11 Jun 2024) EndedAt: 2024-06-11 10:06:56 -0400 (Tue, 11 Jun 2024) EllapsedTime: 26.2 seconds RetCode: 0 Status: OK PackageFile: AlpsNMR_4.6.0.tgz PackageFileSize: 4.17 MiB