Package: AlpsNMR Version: 4.6.0 Command: /home/biocbuild/R/R-beta-2024-04-15_r86425/bin/R CMD build --keep-empty-dirs --no-resave-data AlpsNMR StartedAt: 2024-05-08 22:16:55 -0000 (Wed, 08 May 2024) EndedAt: 2024-05-08 22:19:32 -0000 (Wed, 08 May 2024) EllapsedTime: 157.2 seconds RetCode: 0 Status: OK PackageFile: AlpsNMR_4.6.0.tar.gz PackageFileSize: 3.688 MiB