Package: AlpsNMR Version: 4.6.0 Command: /home/biocbuild/R/R-beta-2024-04-15_r86425/bin/R CMD check --install=check:AlpsNMR.install-out.txt --library=/home/biocbuild/R/R-beta-2024-04-15_r86425/site-library --no-vignettes --timings AlpsNMR_4.6.0.tar.gz StartedAt: 2024-05-09 04:42:07 -0000 (Thu, 09 May 2024) EndedAt: 2024-05-09 04:45:36 -0000 (Thu, 09 May 2024) EllapsedTime: 209.4 seconds RetCode: 0 Status: OK CheckDir: AlpsNMR.Rcheck Warnings: 0