Package: AlpsNMR Version: 4.6.0 Command: rm -rf AlpsNMR.buildbin-libdir && mkdir AlpsNMR.buildbin-libdir && F:\biocbuild\bbs-3.19-bioc\R\bin\R.exe CMD INSTALL --build --library=AlpsNMR.buildbin-libdir AlpsNMR_4.6.0.tar.gz StartedAt: 2024-06-27 07:49:07 -0400 (Thu, 27 Jun 2024) EndedAt: 2024-06-27 07:49:34 -0400 (Thu, 27 Jun 2024) EllapsedTime: 27.1 seconds RetCode: 0 Status: OK PackageFile: AlpsNMR_4.6.0.zip PackageFileSize: 4.185 MiB