Package: AlpsNMR Version: 4.6.0 Command: chmod a+r AlpsNMR -R && F:\biocbuild\bbs-3.19-bioc\R\bin\R.exe CMD build --keep-empty-dirs --no-resave-data AlpsNMR StartedAt: 2024-06-26 17:03:28 -0400 (Wed, 26 Jun 2024) EndedAt: 2024-06-26 17:06:20 -0400 (Wed, 26 Jun 2024) EllapsedTime: 171.7 seconds RetCode: 0 Status: OK PackageFile: AlpsNMR_4.6.0.tar.gz PackageFileSize: 3.699 MiB