Package: AlpsNMR Version: 4.6.0 Command: E:\biocbuild\bbs-3.19-bioc\R\bin\R.exe CMD INSTALL AlpsNMR StartedAt: 2024-10-16 16:38:22 -0400 (Wed, 16 Oct 2024) EndedAt: 2024-10-16 16:39:17 -0400 (Wed, 16 Oct 2024) EllapsedTime: 55.6 seconds RetCode: 0 Status: OK