Package: Anaquin Version: 2.28.0 Command: chmod a+r Anaquin -R && E:\biocbuild\bbs-3.19-bioc\R\bin\R.exe CMD build --keep-empty-dirs --no-resave-data Anaquin StartedAt: 2024-10-16 17:32:25 -0400 (Wed, 16 Oct 2024) EndedAt: 2024-10-16 17:33:05 -0400 (Wed, 16 Oct 2024) EllapsedTime: 40.3 seconds RetCode: 0 Status: OK PackageFile: Anaquin_2.28.0.tar.gz PackageFileSize: 452.7 KiB