Package: AneuFinder Version: 1.32.0 Command: /home/biocbuild/R/R-beta-2024-04-15_r86425/bin/R CMD build --keep-empty-dirs --no-resave-data AneuFinder StartedAt: 2024-05-08 22:17:35 -0000 (Wed, 08 May 2024) EndedAt: 2024-05-08 22:22:07 -0000 (Wed, 08 May 2024) EllapsedTime: 272.4 seconds RetCode: 0 Status: OK PackageFile: AneuFinder_1.32.0.tar.gz PackageFileSize: 2.022 MiB