Package: AnnotationForge Version: 1.46.0 Command: /Library/Frameworks/R.framework/Resources/bin/R CMD build --keep-empty-dirs --no-resave-data AnnotationForge StartedAt: 2024-10-16 19:21:20 -0400 (Wed, 16 Oct 2024) EndedAt: 2024-10-16 19:25:11 -0400 (Wed, 16 Oct 2024) EllapsedTime: 230.9 seconds RetCode: 0 Status: OK PackageFile: AnnotationForge_1.46.0.tar.gz PackageFileSize: 3.838 MiB