Package: AnnotationForge Version: 1.46.0 Command: rm -rf AnnotationForge.buildbin-libdir && mkdir AnnotationForge.buildbin-libdir && /Users/biocbuild/BBS/utils/build-universal.sh AnnotationForge_1.46.0.tar.gz /Library/Frameworks/R.framework/Resources/bin/R AnnotationForge.buildbin-libdir StartedAt: 2024-05-27 01:23:25 -0400 (Mon, 27 May 2024) EndedAt: 2024-05-27 01:23:57 -0400 (Mon, 27 May 2024) EllapsedTime: 31.8 seconds RetCode: 0 Status: OK PackageFile: AnnotationForge_1.46.0.tgz PackageFileSize: 4.185 MiB