Package: AnnotationForge Version: 1.46.0 Command: /Library/Frameworks/R.framework/Resources/bin/R CMD check --install=check:AnnotationForge.install-out.txt --library=/Library/Frameworks/R.framework/Resources/library --no-vignettes --timings AnnotationForge_1.46.0.tar.gz StartedAt: 2024-05-26 19:21:39 -0400 (Sun, 26 May 2024) EndedAt: 2024-05-26 19:24:03 -0400 (Sun, 26 May 2024) EllapsedTime: 144.4 seconds RetCode: 0 Status: OK CheckDir: AnnotationForge.Rcheck Warnings: 0