Package: AnnotationForge Version: 1.46.0 Command: /home/biocbuild/bbs-3.19-bioc/R/bin/R CMD build --keep-empty-dirs --no-resave-data AnnotationForge StartedAt: 2024-10-16 16:54:52 -0400 (Wed, 16 Oct 2024) EndedAt: 2024-10-16 16:57:37 -0400 (Wed, 16 Oct 2024) EllapsedTime: 165.3 seconds RetCode: 0 Status: OK PackageFile: AnnotationForge_1.46.0.tar.gz PackageFileSize: 3.809 MiB