Package: AnnotationForge Version: 1.46.0 Command: F:\biocbuild\bbs-3.19-bioc\R\bin\R.exe CMD INSTALL AnnotationForge StartedAt: 2024-06-26 16:00:25 -0400 (Wed, 26 Jun 2024) EndedAt: 2024-06-26 16:01:04 -0400 (Wed, 26 Jun 2024) EllapsedTime: 39.2 seconds RetCode: 0 Status: OK