Package: AnnotationForge Version: 1.46.0 Command: rm -rf AnnotationForge.buildbin-libdir && mkdir AnnotationForge.buildbin-libdir && E:\biocbuild\bbs-3.19-bioc\R\bin\R.exe CMD INSTALL --build --library=AnnotationForge.buildbin-libdir AnnotationForge_1.46.0.tar.gz StartedAt: 2024-10-17 07:19:48 -0400 (Thu, 17 Oct 2024) EndedAt: 2024-10-17 07:21:25 -0400 (Thu, 17 Oct 2024) EllapsedTime: 96.3 seconds RetCode: 0 Status: OK PackageFile: AnnotationForge_1.46.0.zip PackageFileSize: 4.374 MiB