Package: AnnotationForge Version: 1.46.0 Command: E:\biocbuild\bbs-3.19-bioc\R\bin\R.exe CMD INSTALL AnnotationForge StartedAt: 2024-10-16 16:16:27 -0400 (Wed, 16 Oct 2024) EndedAt: 2024-10-16 16:18:30 -0400 (Wed, 16 Oct 2024) EllapsedTime: 122.6 seconds RetCode: 0 Status: OK