Package: AssessORF Version: 1.22.0 Command: chmod a+r AssessORF -R && F:\biocbuild\bbs-3.19-bioc\R\bin\R.exe CMD build --keep-empty-dirs --no-resave-data AssessORF StartedAt: 2024-06-26 17:08:19 -0400 (Wed, 26 Jun 2024) EndedAt: 2024-06-26 17:09:02 -0400 (Wed, 26 Jun 2024) EllapsedTime: 43.3 seconds RetCode: 0 Status: OK PackageFile: AssessORF_1.22.0.tar.gz PackageFileSize: 4.701 MiB