Package: BADER Version: 1.42.0 Command: rm -rf BADER.buildbin-libdir && mkdir BADER.buildbin-libdir && /Users/biocbuild/BBS/utils/build-universal.sh BADER_1.42.0.tar.gz /Library/Frameworks/R.framework/Resources/bin/R BADER.buildbin-libdir StartedAt: 2024-06-10 00:07:06 -0400 (Mon, 10 Jun 2024) EndedAt: 2024-06-10 00:07:12 -0400 (Mon, 10 Jun 2024) EllapsedTime: 6.7 seconds RetCode: 0 Status: OK PackageFile: BADER_1.42.0.tgz PackageFileSize: 256.6 KiB