Package: BBCAnalyzer Version: 1.34.0 Command: rm -rf BBCAnalyzer.buildbin-libdir && mkdir BBCAnalyzer.buildbin-libdir && /Users/biocbuild/BBS/utils/build-universal.sh BBCAnalyzer_1.34.0.tar.gz /Library/Frameworks/R.framework/Resources/bin/R BBCAnalyzer.buildbin-libdir StartedAt: 2024-10-18 17:25:13 -0400 (Fri, 18 Oct 2024) EndedAt: 2024-10-18 17:26:15 -0400 (Fri, 18 Oct 2024) EllapsedTime: 61.8 seconds RetCode: 0 Status: OK PackageFile: BBCAnalyzer_1.34.0.tgz PackageFileSize: 2.06 MiB