Package: BBCAnalyzer Version: 1.34.0 Command: /Library/Frameworks/R.framework/Resources/bin/R CMD build --keep-empty-dirs --no-resave-data BBCAnalyzer StartedAt: 2024-10-16 17:14:22 -0400 (Wed, 16 Oct 2024) EndedAt: 2024-10-16 17:34:45 -0400 (Wed, 16 Oct 2024) EllapsedTime: 1223.5 seconds RetCode: 0 Status: OK PackageFile: BBCAnalyzer_1.34.0.tar.gz PackageFileSize: 2.203 MiB