Package: BBCAnalyzer Version: 1.34.0 Command: /home/biocbuild/bbs-3.19-bioc/R/bin/R CMD build --keep-empty-dirs --no-resave-data BBCAnalyzer StartedAt: 2024-10-16 17:04:09 -0400 (Wed, 16 Oct 2024) EndedAt: 2024-10-16 17:10:18 -0400 (Wed, 16 Oct 2024) EllapsedTime: 369.5 seconds RetCode: 0 Status: OK PackageFile: BBCAnalyzer_1.34.0.tar.gz PackageFileSize: 2.08 MiB