Package: BBCAnalyzer Version: 1.34.0 Command: rm -rf BBCAnalyzer.buildbin-libdir && mkdir BBCAnalyzer.buildbin-libdir && F:\biocbuild\bbs-3.19-bioc\R\bin\R.exe CMD INSTALL --build --library=BBCAnalyzer.buildbin-libdir BBCAnalyzer_1.34.0.tar.gz StartedAt: 2024-06-27 07:52:00 -0400 (Thu, 27 Jun 2024) EndedAt: 2024-06-27 07:52:58 -0400 (Thu, 27 Jun 2024) EllapsedTime: 58.0 seconds RetCode: 0 Status: OK PackageFile: BBCAnalyzer_1.34.0.zip PackageFileSize: 1.941 MiB