Package: BBCAnalyzer Version: 1.34.0 Command: chmod a+r BBCAnalyzer -R && F:\biocbuild\bbs-3.19-bioc\R\bin\R.exe CMD build --keep-empty-dirs --no-resave-data BBCAnalyzer StartedAt: 2024-06-26 17:15:10 -0400 (Wed, 26 Jun 2024) EndedAt: 2024-06-26 17:26:06 -0400 (Wed, 26 Jun 2024) EllapsedTime: 656.8 seconds RetCode: 0 Status: OK PackageFile: BBCAnalyzer_1.34.0.tar.gz PackageFileSize: 2.083 MiB