Package: BBCAnalyzer Version: 1.34.0 Command: rm -rf BBCAnalyzer.buildbin-libdir && mkdir BBCAnalyzer.buildbin-libdir && E:\biocbuild\bbs-3.19-bioc\R\bin\R.exe CMD INSTALL --build --library=BBCAnalyzer.buildbin-libdir BBCAnalyzer_1.34.0.tar.gz StartedAt: 2024-10-17 07:22:43 -0400 (Thu, 17 Oct 2024) EndedAt: 2024-10-17 07:23:44 -0400 (Thu, 17 Oct 2024) EllapsedTime: 61.3 seconds RetCode: 0 Status: OK PackageFile: BBCAnalyzer_1.34.0.zip PackageFileSize: 1.942 MiB