Package: BBCAnalyzer Version: 1.34.0 Command: chmod a+r BBCAnalyzer -R && E:\biocbuild\bbs-3.19-bioc\R\bin\R.exe CMD build --keep-empty-dirs --no-resave-data BBCAnalyzer StartedAt: 2024-10-16 17:41:20 -0400 (Wed, 16 Oct 2024) EndedAt: 2024-10-16 17:51:55 -0400 (Wed, 16 Oct 2024) EllapsedTime: 634.2 seconds RetCode: 0 Status: OK PackageFile: BBCAnalyzer_1.34.0.tar.gz PackageFileSize: 2.084 MiB