Package: BBCAnalyzer Version: 1.34.0 Command: E:\biocbuild\bbs-3.19-bioc\R\bin\R.exe CMD check --no-multiarch --install=check:BBCAnalyzer.install-out.txt --library=E:\biocbuild\bbs-3.19-bioc\R\library --no-vignettes --timings BBCAnalyzer_1.34.0.tar.gz StartedAt: 2024-10-16 23:04:00 -0400 (Wed, 16 Oct 2024) EndedAt: 2024-10-16 23:09:47 -0400 (Wed, 16 Oct 2024) EllapsedTime: 347.7 seconds RetCode: 0 Status: WARNINGS CheckDir: BBCAnalyzer.Rcheck Warnings: 1