Package: BCRANK Version: 1.66.0 Maintainer: Adam Ameur MaintainerEmail: Adam.Ameur at genpat.uu.se git_url: https://git.bioconductor.org/packages/BCRANK git_branch: RELEASE_3_19 git_last_commit: ab25af6 git_last_commit_date: 2024-04-30 10:17:43 -0400 (Tue, 30 Apr 2024)