Package: BCRANK Version: 1.66.0 Command: rm -rf BCRANK.buildbin-libdir && mkdir BCRANK.buildbin-libdir && /Users/biocbuild/BBS/utils/build-universal.sh BCRANK_1.66.0.tar.gz /Library/Frameworks/R.framework/Resources/bin/R BCRANK.buildbin-libdir StartedAt: 2024-10-18 17:25:14 -0400 (Fri, 18 Oct 2024) EndedAt: 2024-10-18 17:25:34 -0400 (Fri, 18 Oct 2024) EllapsedTime: 20.5 seconds RetCode: 0 Status: OK PackageFile: BCRANK_1.66.0.tgz PackageFileSize: 2.457 MiB