Package: BCRANK Version: 1.66.0 Command: /home/biocbuild/bbs-3.19-bioc/R/bin/R CMD build --keep-empty-dirs --no-resave-data BCRANK StartedAt: 2024-10-16 17:04:14 -0400 (Wed, 16 Oct 2024) EndedAt: 2024-10-16 17:04:33 -0400 (Wed, 16 Oct 2024) EllapsedTime: 19.0 seconds RetCode: 0 Status: OK PackageFile: BCRANK_1.66.0.tar.gz PackageFileSize: 2.76 MiB