Package: BCRANK Version: 1.66.0 Command: rm -rf BCRANK.buildbin-libdir && mkdir BCRANK.buildbin-libdir && F:\biocbuild\bbs-3.19-bioc\R\bin\R.exe CMD INSTALL --build --library=BCRANK.buildbin-libdir BCRANK_1.66.0.tar.gz StartedAt: 2024-06-27 07:52:02 -0400 (Thu, 27 Jun 2024) EndedAt: 2024-06-27 07:52:28 -0400 (Thu, 27 Jun 2024) EllapsedTime: 26.2 seconds RetCode: 0 Status: OK PackageFile: BCRANK_1.66.0.zip PackageFileSize: 2.284 MiB