Package: BCRANK Version: 1.66.0 Command: chmod a+r BCRANK -R && F:\biocbuild\bbs-3.19-bioc\R\bin\R.exe CMD build --keep-empty-dirs --no-resave-data BCRANK StartedAt: 2024-06-26 17:15:22 -0400 (Wed, 26 Jun 2024) EndedAt: 2024-06-26 17:15:57 -0400 (Wed, 26 Jun 2024) EllapsedTime: 34.9 seconds RetCode: 0 Status: OK PackageFile: BCRANK_1.66.0.tar.gz PackageFileSize: 2.762 MiB