Package: BCRANK Version: 1.66.0 Command: F:\biocbuild\bbs-3.19-bioc\R\bin\R.exe CMD check --no-multiarch --install=check:BCRANK.install-out.txt --library=F:\biocbuild\bbs-3.19-bioc\R\library --no-vignettes --timings BCRANK_1.66.0.tar.gz StartedAt: 2024-06-26 23:12:33 -0400 (Wed, 26 Jun 2024) EndedAt: 2024-06-26 23:14:12 -0400 (Wed, 26 Jun 2024) EllapsedTime: 99.3 seconds RetCode: 0 Status: OK CheckDir: BCRANK.Rcheck Warnings: 0