Package: BCRANK Version: 1.66.0 Command: F:\biocbuild\bbs-3.19-bioc\R\bin\R.exe CMD INSTALL BCRANK StartedAt: 2024-06-26 15:49:40 -0400 (Wed, 26 Jun 2024) EndedAt: 2024-06-26 15:50:00 -0400 (Wed, 26 Jun 2024) EllapsedTime: 20.9 seconds RetCode: 0 Status: OK