Package: BCRANK Version: 1.66.0 Command: rm -rf BCRANK.buildbin-libdir && mkdir BCRANK.buildbin-libdir && E:\biocbuild\bbs-3.19-bioc\R\bin\R.exe CMD INSTALL --build --library=BCRANK.buildbin-libdir BCRANK_1.66.0.tar.gz StartedAt: 2024-10-17 07:22:45 -0400 (Thu, 17 Oct 2024) EndedAt: 2024-10-17 07:23:15 -0400 (Thu, 17 Oct 2024) EllapsedTime: 30.6 seconds RetCode: 0 Status: OK PackageFile: BCRANK_1.66.0.zip PackageFileSize: 2.285 MiB