Package: BCRANK Version: 1.66.0 Command: chmod a+r BCRANK -R && E:\biocbuild\bbs-3.19-bioc\R\bin\R.exe CMD build --keep-empty-dirs --no-resave-data BCRANK StartedAt: 2024-10-16 17:41:25 -0400 (Wed, 16 Oct 2024) EndedAt: 2024-10-16 17:41:57 -0400 (Wed, 16 Oct 2024) EllapsedTime: 32.1 seconds RetCode: 0 Status: OK PackageFile: BCRANK_1.66.0.tar.gz PackageFileSize: 2.763 MiB