Package: BCRANK Version: 1.66.0 Command: E:\biocbuild\bbs-3.19-bioc\R\bin\R.exe CMD check --no-multiarch --install=check:BCRANK.install-out.txt --library=E:\biocbuild\bbs-3.19-bioc\R\library --no-vignettes --timings BCRANK_1.66.0.tar.gz StartedAt: 2024-10-16 23:04:48 -0400 (Wed, 16 Oct 2024) EndedAt: 2024-10-16 23:06:19 -0400 (Wed, 16 Oct 2024) EllapsedTime: 90.7 seconds RetCode: 0 Status: OK CheckDir: BCRANK.Rcheck Warnings: 0