Package: BERT Version: 1.0.0 Command: /Library/Frameworks/R.framework/Resources/bin/R CMD build --keep-empty-dirs --no-resave-data BERT StartedAt: 2024-10-16 17:17:28 -0400 (Wed, 16 Oct 2024) EndedAt: 2024-10-16 17:18:32 -0400 (Wed, 16 Oct 2024) EllapsedTime: 64.5 seconds RetCode: 0 Status: OK PackageFile: BERT_1.0.0.tar.gz PackageFileSize: 256.5 KiB