Package: BERT Version: 1.0.0 Command: chmod a+r BERT -R && E:\biocbuild\bbs-3.19-bioc\R\bin\R.exe CMD build --keep-empty-dirs --no-resave-data BERT StartedAt: 2024-10-16 17:44:12 -0400 (Wed, 16 Oct 2024) EndedAt: 2024-10-16 17:45:34 -0400 (Wed, 16 Oct 2024) EllapsedTime: 81.9 seconds RetCode: 0 Status: OK PackageFile: BERT_1.0.0.tar.gz PackageFileSize: 256.7 KiB