Package: BLMA Version: 1.28.0 Command: rm -rf BLMA.buildbin-libdir && mkdir BLMA.buildbin-libdir && /Users/biocbuild/BBS/utils/build-universal.sh BLMA_1.28.0.tar.gz /Library/Frameworks/R.framework/Resources/bin/R BLMA.buildbin-libdir StartedAt: 2024-10-18 17:33:31 -0400 (Fri, 18 Oct 2024) EndedAt: 2024-10-18 17:34:02 -0400 (Fri, 18 Oct 2024) EllapsedTime: 31.1 seconds RetCode: 0 Status: OK PackageFile: BLMA_1.28.0.tgz PackageFileSize: 2.891 MiB