Package: BLMA Version: 1.28.0 Command: /home/biocbuild/R/R-beta-2024-04-15_r86425/bin/R CMD INSTALL BLMA StartedAt: 2024-05-08 20:22:00 -0000 (Wed, 08 May 2024) EndedAt: 2024-05-08 20:22:28 -0000 (Wed, 08 May 2024) EllapsedTime: 28.2 seconds RetCode: 0 Status: OK