Package: BLMA Version: 1.28.0 Command: /Library/Frameworks/R.framework/Resources/bin/R CMD build --keep-empty-dirs --no-resave-data BLMA StartedAt: 2024-06-09 16:01:48 -0400 (Sun, 09 Jun 2024) EndedAt: 2024-06-09 16:06:16 -0400 (Sun, 09 Jun 2024) EllapsedTime: 267.8 seconds RetCode: 0 Status: OK PackageFile: BLMA_1.28.0.tar.gz PackageFileSize: 2.825 MiB