Package: BLMA Version: 1.28.0 Command: /home/biocbuild/bbs-3.19-bioc/R/bin/R CMD build --keep-empty-dirs --no-resave-data BLMA StartedAt: 2024-10-16 17:19:37 -0400 (Wed, 16 Oct 2024) EndedAt: 2024-10-16 17:23:26 -0400 (Wed, 16 Oct 2024) EllapsedTime: 228.3 seconds RetCode: 0 Status: OK PackageFile: BLMA_1.28.0.tar.gz PackageFileSize: 2.676 MiB