Package: BLMA Version: 1.28.0 Command: rm -rf BLMA.buildbin-libdir && mkdir BLMA.buildbin-libdir && F:\biocbuild\bbs-3.19-bioc\R\bin\R.exe CMD INSTALL --build --library=BLMA.buildbin-libdir BLMA_1.28.0.tar.gz StartedAt: 2024-06-27 07:55:01 -0400 (Thu, 27 Jun 2024) EndedAt: 2024-06-27 07:55:30 -0400 (Thu, 27 Jun 2024) EllapsedTime: 28.9 seconds RetCode: 0 Status: OK PackageFile: BLMA_1.28.0.zip PackageFileSize: 2.749 MiB