Package: BLMA Version: 1.28.0 Command: rm -rf BLMA.buildbin-libdir && mkdir BLMA.buildbin-libdir && E:\biocbuild\bbs-3.19-bioc\R\bin\R.exe CMD INSTALL --build --library=BLMA.buildbin-libdir BLMA_1.28.0.tar.gz StartedAt: 2024-10-17 07:26:50 -0400 (Thu, 17 Oct 2024) EndedAt: 2024-10-17 07:27:21 -0400 (Thu, 17 Oct 2024) EllapsedTime: 31.5 seconds RetCode: 0 Status: OK PackageFile: BLMA_1.28.0.zip PackageFileSize: 2.75 MiB