Package: BOBaFIT Version: 1.8.0 Command: /home/biocbuild/R/R-beta-2024-04-15_r86425/bin/R CMD check --install=check:BOBaFIT.install-out.txt --library=/home/biocbuild/R/R-beta-2024-04-15_r86425/site-library --no-vignettes --timings BOBaFIT_1.8.0.tar.gz StartedAt: 2024-05-09 05:24:00 -0000 (Thu, 09 May 2024) EndedAt: 2024-05-09 05:33:06 -0000 (Thu, 09 May 2024) EllapsedTime: 546.8 seconds RetCode: 0 Status: WARNINGS CheckDir: BOBaFIT.Rcheck Warnings: 1