Package: BOBaFIT Version: 1.8.0 Command: /Library/Frameworks/R.framework/Resources/bin/R CMD build --keep-empty-dirs --no-resave-data BOBaFIT StartedAt: 2024-10-16 17:35:09 -0400 (Wed, 16 Oct 2024) EndedAt: 2024-10-16 17:38:44 -0400 (Wed, 16 Oct 2024) EllapsedTime: 214.5 seconds RetCode: 0 Status: OK PackageFile: BOBaFIT_1.8.0.tar.gz PackageFileSize: 2.498 MiB