Package: BOBaFIT Version: 1.8.0 Command: /Library/Frameworks/R.framework/Resources/bin/R CMD check --install=check:BOBaFIT.install-out.txt --library=/Library/Frameworks/R.framework/Resources/library --no-vignettes --timings BOBaFIT_1.8.0.tar.gz StartedAt: 2024-10-17 02:01:25 -0400 (Thu, 17 Oct 2024) EndedAt: 2024-10-17 02:17:32 -0400 (Thu, 17 Oct 2024) EllapsedTime: 967.0 seconds RetCode: 0 Status: WARNINGS CheckDir: BOBaFIT.Rcheck Warnings: 1